BEGIN:VCALENDAR
VERSION:2.0
PRODID:-//hacksw/handcal//NONSGML v1.0//EN
BEGIN:VEVENT
SUMMARY:U16 G - US JUVARDEIL vs ANGERS HBC 2
UID:73132b25-1f55-493e-a2a7-eb18760cf3f0
DTSTART:20260508T220000Z
DTEND:20260509T220000Z
LOCATION:Localisation chemin du bon gros 49330 JUVARDEIL
CATEGORIES:Sportif
STATUS:
URL;VALUE=URI:https://usjuvardeilhandball.sportsregions.fr/evenements/2026/05/09/u16-g-us-juvardeil-vs-angers-hbc-2-2441614
END:VEVENT
END:VCALENDAR
