BEGIN:VCALENDAR
VERSION:2.0
PRODID:-//hacksw/handcal//NONSGML v1.0//EN
BEGIN:VEVENT
SUMMARY:U12 G - US JUVARDEIL 2 vs ES AUBANCE 1
UID:bdd61acd-da60-4f80-b699-cd34a53abe76
DTSTART:20260508T220000Z
DTEND:20260509T220000Z
LOCATION:Localisation chemin du bon gros 49330 JUVARDEIL
CATEGORIES:Sportif
STATUS:
URL;VALUE=URI:https://usjuvardeilhandball.sportsregions.fr/evenements/2026/05/09/u12-g-us-juvardeil-2-vs-es-aubance-1-2441611
END:VEVENT
END:VCALENDAR
