BEGIN:VCALENDAR
VERSION:2.0
PRODID:-//hacksw/handcal//NONSGML v1.0//EN
BEGIN:VEVENT
SUMMARY:S2 G - US JUVARDEIL 2  vs HBC LOIRE LAYON
UID:2c1a8dfa-ce0c-4567-840a-331dff90ea01
DTSTART:20260508T220000Z
DTEND:20260509T220000Z
LOCATION:Localisation chemin du bon gros 49330 JUVARDEIL
CATEGORIES:Sportif
STATUS:
URL;VALUE=URI:https://usjuvardeilhandball.sportsregions.fr/evenements/2026/05/09/s2-g-us-juvardeil-2-vs-hbc-loire-layon-2441608
END:VEVENT
END:VCALENDAR
