BEGIN:VCALENDAR
VERSION:2.0
PRODID:-//hacksw/handcal//NONSGML v1.0//EN
BEGIN:VEVENT
SUMMARY:U19 G - ANGERS HBC vs US JUVARDEIL
UID:58ca1f07-c21c-4ba9-a1b4-16a9b45d0fb8
DTSTART:20260501T220000Z
DTEND:20260502T220000Z
LOCATION:Localisation rue joseph cussonneau 49100 ANGERS
CATEGORIES:Sportif
STATUS:
URL;VALUE=URI:https://usjuvardeilhandball.sportsregions.fr/evenements/2026/05/02/u19-g-angers-hbc-vs-us-juvardeil-2439893
END:VEVENT
END:VCALENDAR
