BEGIN:VCALENDAR
VERSION:2.0
PRODID:-//hacksw/handcal//NONSGML v1.0//EN
BEGIN:VEVENT
SUMMARY:U13 F - US JUVARDEIL vs HBC CHEMILLE
UID:bb1f96b7-47f8-4958-a1c0-38972a61d36c
DTSTART:20260501T220000Z
DTEND:20260502T220000Z
LOCATION:Localisation chemin du bon gros 49330 JUVARDEIL
CATEGORIES:Sportif
STATUS:
URL;VALUE=URI:https://usjuvardeilhandball.sportsregions.fr/evenements/2026/05/02/u13-f-us-juvardeil-vs-hbc-chemille-2439891
END:VEVENT
END:VCALENDAR
