BEGIN:VCALENDAR
VERSION:2.0
PRODID:-//hacksw/handcal//NONSGML v1.0//EN
BEGIN:VEVENT
SUMMARY:U12 G - US JUVARDEIL 1 vs AS AVRILLE 1
UID:3f84880b-2f33-4888-b2ad-522792c49040
DTSTART:20260501T220000Z
DTEND:20260502T220000Z
LOCATION:Localisation chemin du bon gros 49330 JUVARDEIL
CATEGORIES:Sportif
STATUS:
URL;VALUE=URI:https://usjuvardeilhandball.sportsregions.fr/evenements/2026/05/02/u12-g-us-juvardeil-1-vs-as-avrille-1-2439890
END:VEVENT
END:VCALENDAR
