BEGIN:VCALENDAR
VERSION:2.0
PRODID:-//hacksw/handcal//NONSGML v1.0//EN
BEGIN:VEVENT
SUMMARY:S2 G - HBC LOIRE LAYON vs US JUVARDEIL 2
UID:ea54b87a-6ed0-47de-b4ca-41cb733ffeb1
DTSTART:20260501T220000Z
DTEND:20260502T220000Z
LOCATION:Localisation av laffont de labedat 49290 CHALONNES SUR LOIRE
CATEGORIES:Sportif
STATUS:
URL;VALUE=URI:https://usjuvardeilhandball.sportsregions.fr/evenements/2026/05/02/s2-g-hbc-loire-layon-vs-us-juvardeil-2-2439889
END:VEVENT
END:VCALENDAR
