BEGIN:VCALENDAR
VERSION:2.0
PRODID:-//hacksw/handcal//NONSGML v1.0//EN
BEGIN:VEVENT
SUMMARY:US JUVARDEIL 2 - ENERGIE LE MAY
UID:1ae852ea-3b55-436f-8d8d-2550d7918361
DTSTART:20260424T220000Z
DTEND:20260425T220000Z
LOCATION:Localisation chemin du bon gros 49330 JUVARDEIL
CATEGORIES:Sportif
STATUS:
URL;VALUE=URI:https://usjuvardeilhandball.sportsregions.fr/evenements/2026/04/25/us-juvardeil-2-energie-le-may-2439279
END:VEVENT
END:VCALENDAR
