BEGIN:VCALENDAR
VERSION:2.0
PRODID:-//hacksw/handcal//NONSGML v1.0//EN
BEGIN:VEVENT
SUMMARY:1er Pas - SEGRE HB 1 vs US JUVARDEIL 2
UID:cda81704-1325-4903-96b4-849c9cffc957
DTSTART:20260410T220000Z
DTEND:20260411T220000Z
LOCATION:Localisation chemin du bon gros 49330 JUVARDEIL
CATEGORIES:Sportif
STATUS:
URL;VALUE=URI:https://usjuvardeilhandball.sportsregions.fr/evenements/2026/04/11/1er-pas-segre-hb-1-vs-us-juvardeil-2-2439884
END:VEVENT
END:VCALENDAR
